0.00000000000000
0.13000000000000
0.13000000000000
-0.00000000000000
699730.98248548701000
248555.70690007176000
