-0.00000000000000
-0.13000000000000
-0.13000000000000
0.00000000000000
700596.01751451299000
279532.29309992824000
