-0.00000000000000
-0.13000000000000
-0.13000000000000
0.00000000000000
700538.01751451299000
272604.29309992824000
