-0.00000000000000
-0.13000000000000
-0.13000000000000
0.00000000000000
700546.01751451299000
265493.29309992824000
