-0.00000000000000
-0.13000000000000
-0.13000000000000
0.00000000000000
700467.01751451299000
241245.29309992824000
