-0.00000000000000
-0.13000000000000
-0.13000000000000
0.00000000000000
698920.01751451299000
277154.29309992824000
