-0.00000000000000
-0.13000000000000
-0.13000000000000
0.00000000000000
698897.01751451299000
265920.29309992824000
