-0.00000000000000
-0.13000000000000
-0.13000000000000
0.00000000000000
698817.01751451299000
243305.29309992824000
