-0.00000000000000
-0.13000000000000
-0.13000000000000
0.00000000000000
698807.01751451299000
233487.29309992824000
