0.00000000000000
0.13000000000000
0.13000000000000
-0.00000000000000
694988.98248548689000
271060.70690007176000
