0.00000000000000
0.13000000000000
0.13000000000000
-0.00000000000000
694813.98248548701000
238978.70690007176000
