-0.00000000000000
-0.13000000000000
-0.13000000000000
0.00000000000000
695787.01751451299000
270402.29309992824000
