-0.00000000000000
-0.13000000000000
-0.13000000000000
0.00000000000000
695781.01751451299000
264416.29309992824000
