-0.00000000000000
-0.13000000000000
-0.13000000000000
0.00000000000000
695813.01751451299000
258938.29309992824000
