-0.00000000000000
-0.13000000000000
-0.13000000000000
0.00000000000000
695718.01751451299000
237770.29309992824000
