-0.00000000000000
-0.13000000000000
-0.13000000000000
0.00000000000000
695731.01751451299000
235231.29309992824000
