0.00000000000000
0.13000000000000
0.13000000000000
-0.00000000000000
693371.98248548701000
229841.70690007176000
