0.00000000000000
0.13000000000000
0.13000000000000
-0.00000000000000
693341.98248548701000
227151.70690007176000
