-0.00000000000000
-0.13000000000000
-0.13000000000000
0.00000000000000
694339.01751451299000
271803.29309992824000
