-0.00000000000000
-0.13000000000000
-0.13000000000000
0.00000000000000
694307.01751451299000
258504.29309992824000
