0.00000000000000
0.13000000000000
0.13000000000000
-0.00000000000000
691883.98248548701000
247617.70690007176000
