0.00000000000000
0.13000000000000
0.13000000000000
-0.00000000000000
691835.98248548701000
238910.70690007176000
