0.00000000000000
0.13000000000000
0.13000000000000
-0.00000000000000
690536.98248548689000
281073.70690007176000
