0.00000000000000
0.13000000000000
0.13000000000000
-0.00000000000000
690504.98248548689000
277098.70690007176000
