0.00000000000000
0.13000000000000
0.13000000000000
-0.00000000000000
690464.98248548689000
268061.70690007176000
