0.00000000000000
0.13000000000000
0.13000000000000
-0.00000000000000
690432.98248548689000
265098.70690007176000
