0.00000000000000
0.13000000000000
0.13000000000000
-0.00000000000000
690438.98248548701000
254524.70690007176000
