-0.00000000000000
-0.13000000000000
-0.13000000000000
0.00000000000000
692735.01751451299000
233964.29309992824000
