0.00000000000000
0.13000000000000
0.13000000000000
-0.00000000000000
688854.98248548689000
272834.70690007176000
