0.00000000000000
0.13000000000000
0.13000000000000
-0.00000000000000
688877.98248548689000
264314.70690007176000
