0.00000000000000
0.13000000000000
0.13000000000000
-0.00000000000000
688901.98248548689000
261484.70690007176000
