0.00000000000000
0.13000000000000
0.13000000000000
-0.00000000000000
688893.98248548701000
252615.70690007176000
