0.00000000000000
0.13000000000000
0.13000000000000
-0.00000000000000
688941.98248548701000
251584.70690007176000
