0.00000000000000
0.13000000000000
0.13000000000000
-0.00000000000000
688798.98248548701000
232356.70690007176000
