-0.00000000000000
-0.13000000000000
-0.13000000000000
0.00000000000000
689722.01751451299000
252641.29309992824000
