0.00000000000000
0.13000000000000
0.13000000000000
-0.00000000000000
685785.98248548701000
236276.70690007176000
