0.00000000000000
0.13000000000000
0.13000000000000
-0.00000000000000
684361.98248548701000
258461.70690007176000
