0.00000000000000
0.13000000000000
0.13000000000000
-0.00000000000000
684345.98248548701000
249264.70690007176000
