0.00000000000000
0.13000000000000
0.13000000000000
-0.00000000000000
684266.98248548701000
237944.70690007176000
