-0.00000000000000
-0.13000000000000
-0.13000000000000
0.00000000000000
685173.01751451299000
252142.29309992824000
