-0.00000000000000
-0.13000000000000
-0.13000000000000
0.00000000000000
685118.01751451299000
238233.29309992824000
