0.00000000000000
0.13000000000000
0.13000000000000
-0.00000000000000
681246.98248548701000
254756.70690007176000
