0.00000000000000
0.13000000000000
0.13000000000000
-0.00000000000000
679750.98248548689000
262657.70690007176000
