0.00000000000000
0.13000000000000
0.13000000000000
-0.00000000000000
679750.98248548701000
252855.70690007176000
