0.00000000000000
0.13000000000000
0.13000000000000
-0.00000000000000
679750.98248548701000
250239.70690007176000
