-0.00000000000000
-0.13000000000000
-0.13000000000000
0.00000000000000
680566.01751451299000
243636.29309992824000
