0.00000000000000
0.13000000000000
0.13000000000000
-0.00000000000000
676680.30353434233000
267140.84329039202000
