0.00000000000000
0.13000000000000
0.13000000000000
-0.00000000000000
676711.30353434221000
248896.84329039202000
