-0.00000000000000
-0.13000000000000
-0.13000000000000
0.00000000000000
677418.69646565779000
263385.15670960798000
