-0.00000000000000
-0.13000000000000
-0.13000000000000
0.00000000000000
677418.69646565779000
255884.15670960798000
